BEGIN:VCALENDAR
VERSION:2.0
PRODID:-//Tukios.com/
BEGIN:VEVENT
UID:7a54eee8-5490-42c3-a40d-37ddd2751dda@www.gchoicefc.com
DTSTAMP:20260420T190119Z
DTSTART:20260423T163000Z
DTEND:20260423T170000Z
SUMMARY:Burial
DESCRIPTION:
URL:https://www.gchoicefc.com/obituaries/donnie-murchison
LOCATION:Mount Peace Cemetery 3111 W Lehigh Ave  Philadelphia PA 19132
GEO:39.9978829;-75.1824162
END:VEVENT
END:VCALENDAR