BEGIN:VCALENDAR
VERSION:2.0
PRODID:-//Tukios.com/
BEGIN:VEVENT
UID:3357b22d-739d-44d5-a27b-9f2afa9174fb@www.gchoicefc.com
DTSTAMP:20260420T185448Z
DTSTART:20260423T140000Z
DTEND:20260423T160000Z
SUMMARY:Traditional Funeral Service at Funeral Home
DESCRIPTION:
URL:https://www.gchoicefc.com/obituaries/donnie-murchison
LOCATION:G. Choice Funeral Chapel 2530 N. Broad Street  Philadelphia PA 
	19132
GEO:39.9920704;-75.1554303
END:VEVENT
END:VCALENDAR