BEGIN:VCALENDAR
VERSION:2.0
PRODID:-//Tukios.com/
BEGIN:VEVENT
UID:a382999b-d851-47ca-b0bb-e0e7ccbc59cb@www.gchoicefc.com
DTSTAMP:20260420T185655Z
DTSTART:20260423T130000Z
DTEND:20260423T140000Z
SUMMARY:Public Viewing
DESCRIPTION:
URL:https://www.gchoicefc.com/obituaries/donnie-murchison
LOCATION:G. Choice Funeral Chapel 2530 N. Broad Street  Philadelphia PA 
	19132
GEO:39.9920704;-75.1554303
END:VEVENT
END:VCALENDAR